{"text_format":"1","workbook":"xlsx","n_sheets":3,"sheets":["liste","AYARLAR - ÇIKTI","VERİ"],"not_rendered":{"charts":0,"images":1,"macros":1,"external_links":0,"defined_names":1,"comments":0,"pivot_tables":0},"unopened":[],"bounds":{"document_bytes":16777216,"sheet_cells":100000,"rows_first":2000,"rows_last":500,"rows_between":2000,"halvings":0,"cell_chars":16384,"cell_head_chars":4096},"cells_cut":0,"cells_raw":0,"read":"whole","date_system":"1900"}

{"sheet":"liste","index":0,"n_rows":60,"n_cols":3,"rows_kept":60,"cut":false,"hidden":false,"merged":[]}
["AD SOYAD","E-POSTA","ŞİFRE"]
[{"$f":"IF(VERİ!C2<>\"\",CONCATENATE(VERİ!C2&\" \"&VERİ!D2),\"\")","v":""},{"$f":"IF(VERİ!C2<>\"\",(SUBSTITUTE(SUBSTITUTE(SUBSTITUTE(SUBSTITUTE(SUBSTITUTE(SUBSTITUTE((CONCATENATE(LOWER(VERİ!D2)&VERİ!E2&\"@\"&posta)),\"ç\",\"c\"),\"ğ\",\"g\"),\"ı\",\"i\"),\"ö\",\"o\"),\"ş\",\"s\"),\"ü\",\"u\")),\"\")","v":""},{"$f":"IF(VERİ!C2<>\"\",SUBSTITUTE(SUBSTITUTE(SUBSTITUTE(SUBSTITUTE(SUBSTITUTE(SUBSTITUTE((CONCATENATE(LOWER(VERİ!D2)&VERİ!E2)),\"ç\",\"c\"),\"ğ\",\"g\"),\"ı\",\"i\"),\"ö\",\"o\"),\"ş\",\"s\"),\"ü\",\"u\"),\"\")","v":""}]
[{"$f":"IF(VERİ!C3<>\"\",CONCATENATE(VERİ!C3&\" \"&VERİ!D3),\"\")","v":""},{"$f":"IF(VERİ!C3<>\"\",(SUBSTITUTE(SUBSTITUTE(SUBSTITUTE(SUBSTITUTE(SUBSTITUTE(SUBSTITUTE((CONCATENATE(LOWER(VERİ!D3)&VERİ!E3&\"@\"&posta)),\"ç\",\"c\"),\"ğ\",\"g\"),\"ı\",\"i\"),\"ö\",\"o\"),\"ş\",\"s\"),\"ü\",\"u\")),\"\")","v":""},{"$f":"IF(VERİ!C3<>\"\",SUBSTITUTE(SUBSTITUTE(SUBSTITUTE(SUBSTITUTE(SUBSTITUTE(SUBSTITUTE((CONCATENATE(LOWER(VERİ!D3)&VERİ!E3)),\"ç\",\"c\"),\"ğ\",\"g\"),\"ı\",\"i\"),\"ö\",\"o\"),\"ş\",\"s\"),\"ü\",\"u\"),\"\")","v":""}]
[{"$f":"IF(VERİ!C4<>\"\",CONCATENATE(VERİ!C4&\" \"&VERİ!D4),\"\")","v":""},{"$f":"IF(VERİ!C4<>\"\",(SUBSTITUTE(SUBSTITUTE(SUBSTITUTE(SUBSTITUTE(SUBSTITUTE(SUBSTITUTE((CONCATENATE(LOWER(VERİ!D4)&VERİ!E4&\"@\"&posta)),\"ç\",\"c\"),\"ğ\",\"g\"),\"ı\",\"i\"),\"ö\",\"o\"),\"ş\",\"s\"),\"ü\",\"u\")),\"\")","v":""},{"$f":"IF(VERİ!C4<>\"\",SUBSTITUTE(SUBSTITUTE(SUBSTITUTE(SUBSTITUTE(SUBSTITUTE(SUBSTITUTE((CONCATENATE(LOWER(VERİ!D4)&VERİ!E4)),\"ç\",\"c\"),\"ğ\",\"g\"),\"ı\",\"i\"),\"ö\",\"o\"),\"ş\",\"s\"),\"ü\",\"u\"),\"\")","v":""}]
[{"$f":"IF(VERİ!C5<>\"\",CONCATENATE(VERİ!C5&\" \"&VERİ!D5),\"\")","v":""},{"$f":"IF(VERİ!C5<>\"\",(SUBSTITUTE(SUBSTITUTE(SUBSTITUTE(SUBSTITUTE(SUBSTITUTE(SUBSTITUTE((CONCATENATE(LOWER(VERİ!D5)&VERİ!E5&\"@\"&posta)),\"ç\",\"c\"),\"ğ\",\"g\"),\"ı\",\"i\"),\"ö\",\"o\"),\"ş\",\"s\"),\"ü\",\"u\")),\"\")","v":""},{"$f":"IF(VERİ!C5<>\"\",SUBSTITUTE(SUBSTITUTE(SUBSTITUTE(SUBSTITUTE(SUBSTITUTE(SUBSTITUTE((CONCATENATE(LOWER(VERİ!D5)&VERİ!E5)),\"ç\",\"c\"),\"ğ\",\"g\"),\"ı\",\"i\"),\"ö\",\"o\"),\"ş\",\"s\"),\"ü\",\"u\"),\"\")","v":""}]
[{"$f":"IF(VERİ!C6<>\"\",CONCATENATE(VERİ!C6&\" \"&VERİ!D6),\"\")","v":""},{"$f":"IF(VERİ!C6<>\"\",(SUBSTITUTE(SUBSTITUTE(SUBSTITUTE(SUBSTITUTE(SUBSTITUTE(SUBSTITUTE((CONCATENATE(LOWER(VERİ!D6)&VERİ!E6&\"@\"&posta)),\"ç\",\"c\"),\"ğ\",\"g\"),\"ı\",\"i\"),\"ö\",\"o\"),\"ş\",\"s\"),\"ü\",\"u\")),\"\")","v":""},{"$f":"IF(VERİ!C6<>\"\",SUBSTITUTE(SUBSTITUTE(SUBSTITUTE(SUBSTITUTE(SUBSTITUTE(SUBSTITUTE((CONCATENATE(LOWER(VERİ!D6)&VERİ!E6)),\"ç\",\"c\"),\"ğ\",\"g\"),\"ı\",\"i\"),\"ö\",\"o\"),\"ş\",\"s\"),\"ü\",\"u\"),\"\")","v":""}]
[{"$f":"IF(VERİ!C7<>\"\",CONCATENATE(VERİ!C7&\" \"&VERİ!D7),\"\")","v":""},{"$f":"IF(VERİ!C7<>\"\",(SUBSTITUTE(SUBSTITUTE(SUBSTITUTE(SUBSTITUTE(SUBSTITUTE(SUBSTITUTE((CONCATENATE(LOWER(VERİ!D7)&VERİ!E7&\"@\"&posta)),\"ç\",\"c\"),\"ğ\",\"g\"),\"ı\",\"i\"),\"ö\",\"o\"),\"ş\",\"s\"),\"ü\",\"u\")),\"\")","v":""},{"$f":"IF(VERİ!C7<>\"\",SUBSTITUTE(SUBSTITUTE(SUBSTITUTE(SUBSTITUTE(SUBSTITUTE(SUBSTITUTE((CONCATENATE(LOWER(VERİ!D7)&VERİ!E7)),\"ç\",\"c\"),\"ğ\",\"g\"),\"ı\",\"i\"),\"ö\",\"o\"),\"ş\",\"s\"),\"ü\",\"u\"),\"\")","v":""}]
[{"$f":"IF(VERİ!C8<>\"\",CONCATENATE(VERİ!C8&\" \"&VERİ!D8),\"\")","v":""},{"$f":"IF(VERİ!C8<>\"\",(SUBSTITUTE(SUBSTITUTE(SUBSTITUTE(SUBSTITUTE(SUBSTITUTE(SUBSTITUTE((CONCATENATE(LOWER(VERİ!D8)&VERİ!E8&\"@\"&posta)),\"ç\",\"c\"),\"ğ\",\"g\"),\"ı\",\"i\"),\"ö\",\"o\"),\"ş\",\"s\"),\"ü\",\"u\")),\"\")","v":""},{"$f":"IF(VERİ!C8<>\"\",SUBSTITUTE(SUBSTITUTE(SUBSTITUTE(SUBSTITUTE(SUBSTITUTE(SUBSTITUTE((CONCATENATE(LOWER(VERİ!D8)&VERİ!E8)),\"ç\",\"c\"),\"ğ\",\"g\"),\"ı\",\"i\"),\"ö\",\"o\"),\"ş\",\"s\"),\"ü\",\"u\"),\"\")","v":""}]
[{"$f":"IF(VERİ!C9<>\"\",CONCATENATE(VERİ!C9&\" \"&VERİ!D9),\"\")","v":""},{"$f":"IF(VERİ!C9<>\"\",(SUBSTITUTE(SUBSTITUTE(SUBSTITUTE(SUBSTITUTE(SUBSTITUTE(SUBSTITUTE((CONCATENATE(LOWER(VERİ!D9)&VERİ!E9&\"@\"&posta)),\"ç\",\"c\"),\"ğ\",\"g\"),\"ı\",\"i\"),\"ö\",\"o\"),\"ş\",\"s\"),\"ü\",\"u\")),\"\")","v":""},{"$f":"IF(VERİ!C9<>\"\",SUBSTITUTE(SUBSTITUTE(SUBSTITUTE(SUBSTITUTE(SUBSTITUTE(SUBSTITUTE((CONCATENATE(LOWER(VERİ!D9)&VERİ!E9)),\"ç\",\"c\"),\"ğ\",\"g\"),\"ı\",\"i\"),\"ö\",\"o\"),\"ş\",\"s\"),\"ü\",\"u\"),\"\")","v":""}]
[{"$f":"IF(VERİ!C10<>\"\",CONCATENATE(VERİ!C10&\" \"&VERİ!D10),\"\")","v":""},{"$f":"IF(VERİ!C10<>\"\",(SUBSTITUTE(SUBSTITUTE(SUBSTITUTE(SUBSTITUTE(SUBSTITUTE(SUBSTITUTE((CONCATENATE(LOWER(VERİ!D10)&VERİ!E10&\"@\"&posta)),\"ç\",\"c\"),\"ğ\",\"g\"),\"ı\",\"i\"),\"ö\",\"o\"),\"ş\",\"s\"),\"ü\",\"u\")),\"\")","v":""},{"$f":"IF(VERİ!C10<>\"\",SUBSTITUTE(SUBSTITUTE(SUBSTITUTE(SUBSTITUTE(SUBSTITUTE(SUBSTITUTE((CONCATENATE(LOWER(VERİ!D10)&VERİ!E10)),\"ç\",\"c\"),\"ğ\",\"g\"),\"ı\",\"i\"),\"ö\",\"o\"),\"ş\",\"s\"),\"ü\",\"u\"),\"\")","v":""}]
[{"$f":"IF(VERİ!C11<>\"\",CONCATENATE(VERİ!C11&\" \"&VERİ!D11),\"\")","v":""},{"$f":"IF(VERİ!C11<>\"\",(SUBSTITUTE(SUBSTITUTE(SUBSTITUTE(SUBSTITUTE(SUBSTITUTE(SUBSTITUTE((CONCATENATE(LOWER(VERİ!D11)&VERİ!E11&\"@\"&posta)),\"ç\",\"c\"),\"ğ\",\"g\"),\"ı\",\"i\"),\"ö\",\"o\"),\"ş\",\"s\"),\"ü\",\"u\")),\"\")","v":""},{"$f":"IF(VERİ!C11<>\"\",SUBSTITUTE(SUBSTITUTE(SUBSTITUTE(SUBSTITUTE(SUBSTITUTE(SUBSTITUTE((CONCATENATE(LOWER(VERİ!D11)&VERİ!E11)),\"ç\",\"c\"),\"ğ\",\"g\"),\"ı\",\"i\"),\"ö\",\"o\"),\"ş\",\"s\"),\"ü\",\"u\"),\"\")","v":""}]
[{"$f":"IF(VERİ!C12<>\"\",CONCATENATE(VERİ!C12&\" \"&VERİ!D12),\"\")","v":""},{"$f":"IF(VERİ!C12<>\"\",(SUBSTITUTE(SUBSTITUTE(SUBSTITUTE(SUBSTITUTE(SUBSTITUTE(SUBSTITUTE((CONCATENATE(LOWER(VERİ!D12)&VERİ!E12&\"@\"&posta)),\"ç\",\"c\"),\"ğ\",\"g\"),\"ı\",\"i\"),\"ö\",\"o\"),\"ş\",\"s\"),\"ü\",\"u\")),\"\")","v":""},{"$f":"IF(VERİ!C12<>\"\",SUBSTITUTE(SUBSTITUTE(SUBSTITUTE(SUBSTITUTE(SUBSTITUTE(SUBSTITUTE((CONCATENATE(LOWER(VERİ!D12)&VERİ!E12)),\"ç\",\"c\"),\"ğ\",\"g\"),\"ı\",\"i\"),\"ö\",\"o\"),\"ş\",\"s\"),\"ü\",\"u\"),\"\")","v":""}]
[{"$f":"IF(VERİ!C13<>\"\",CONCATENATE(VERİ!C13&\" \"&VERİ!D13),\"\")","v":""},{"$f":"IF(VERİ!C13<>\"\",(SUBSTITUTE(SUBSTITUTE(SUBSTITUTE(SUBSTITUTE(SUBSTITUTE(SUBSTITUTE((CONCATENATE(LOWER(VERİ!D13)&VERİ!E13&\"@\"&posta)),\"ç\",\"c\"),\"ğ\",\"g\"),\"ı\",\"i\"),\"ö\",\"o\"),\"ş\",\"s\"),\"ü\",\"u\")),\"\")","v":""},{"$f":"IF(VERİ!C13<>\"\",SUBSTITUTE(SUBSTITUTE(SUBSTITUTE(SUBSTITUTE(SUBSTITUTE(SUBSTITUTE((CONCATENATE(LOWER(VERİ!D13)&VERİ!E13)),\"ç\",\"c\"),\"ğ\",\"g\"),\"ı\",\"i\"),\"ö\",\"o\"),\"ş\",\"s\"),\"ü\",\"u\"),\"\")","v":""}]
[{"$f":"IF(VERİ!C14<>\"\",CONCATENATE(VERİ!C14&\" \"&VERİ!D14),\"\")","v":""},{"$f":"IF(VERİ!C14<>\"\",(SUBSTITUTE(SUBSTITUTE(SUBSTITUTE(SUBSTITUTE(SUBSTITUTE(SUBSTITUTE((CONCATENATE(LOWER(VERİ!D14)&VERİ!E14&\"@\"&posta)),\"ç\",\"c\"),\"ğ\",\"g\"),\"ı\",\"i\"),\"ö\",\"o\"),\"ş\",\"s\"),\"ü\",\"u\")),\"\")","v":""},{"$f":"IF(VERİ!C14<>\"\",SUBSTITUTE(SUBSTITUTE(SUBSTITUTE(SUBSTITUTE(SUBSTITUTE(SUBSTITUTE((CONCATENATE(LOWER(VERİ!D14)&VERİ!E14)),\"ç\",\"c\"),\"ğ\",\"g\"),\"ı\",\"i\"),\"ö\",\"o\"),\"ş\",\"s\"),\"ü\",\"u\"),\"\")","v":""}]
[{"$f":"IF(VERİ!C15<>\"\",CONCATENATE(VERİ!C15&\" \"&VERİ!D15),\"\")","v":""},{"$f":"IF(VERİ!C15<>\"\",(SUBSTITUTE(SUBSTITUTE(SUBSTITUTE(SUBSTITUTE(SUBSTITUTE(SUBSTITUTE((CONCATENATE(LOWER(VERİ!D15)&VERİ!E15&\"@\"&posta)),\"ç\",\"c\"),\"ğ\",\"g\"),\"ı\",\"i\"),\"ö\",\"o\"),\"ş\",\"s\"),\"ü\",\"u\")),\"\")","v":""},{"$f":"IF(VERİ!C15<>\"\",SUBSTITUTE(SUBSTITUTE(SUBSTITUTE(SUBSTITUTE(SUBSTITUTE(SUBSTITUTE((CONCATENATE(LOWER(VERİ!D15)&VERİ!E15)),\"ç\",\"c\"),\"ğ\",\"g\"),\"ı\",\"i\"),\"ö\",\"o\"),\"ş\",\"s\"),\"ü\",\"u\"),\"\")","v":""}]
[{"$f":"IF(VERİ!C16<>\"\",CONCATENATE(VERİ!C16&\" \"&VERİ!D16),\"\")","v":""},{"$f":"IF(VERİ!C16<>\"\",(SUBSTITUTE(SUBSTITUTE(SUBSTITUTE(SUBSTITUTE(SUBSTITUTE(SUBSTITUTE((CONCATENATE(LOWER(VERİ!D16)&VERİ!E16&\"@\"&posta)),\"ç\",\"c\"),\"ğ\",\"g\"),\"ı\",\"i\"),\"ö\",\"o\"),\"ş\",\"s\"),\"ü\",\"u\")),\"\")","v":""},{"$f":"IF(VERİ!C16<>\"\",SUBSTITUTE(SUBSTITUTE(SUBSTITUTE(SUBSTITUTE(SUBSTITUTE(SUBSTITUTE((CONCATENATE(LOWER(VERİ!D16)&VERİ!E16)),\"ç\",\"c\"),\"ğ\",\"g\"),\"ı\",\"i\"),\"ö\",\"o\"),\"ş\",\"s\"),\"ü\",\"u\"),\"\")","v":""}]
[{"$f":"IF(VERİ!C17<>\"\",CONCATENATE(VERİ!C17&\" \"&VERİ!D17),\"\")","v":""},{"$f":"IF(VERİ!C17<>\"\",(SUBSTITUTE(SUBSTITUTE(SUBSTITUTE(SUBSTITUTE(SUBSTITUTE(SUBSTITUTE((CONCATENATE(LOWER(VERİ!D17)&VERİ!E17&\"@\"&posta)),\"ç\",\"c\"),\"ğ\",\"g\"),\"ı\",\"i\"),\"ö\",\"o\"),\"ş\",\"s\"),\"ü\",\"u\")),\"\")","v":""},{"$f":"IF(VERİ!C17<>\"\",SUBSTITUTE(SUBSTITUTE(SUBSTITUTE(SUBSTITUTE(SUBSTITUTE(SUBSTITUTE((CONCATENATE(LOWER(VERİ!D17)&VERİ!E17)),\"ç\",\"c\"),\"ğ\",\"g\"),\"ı\",\"i\"),\"ö\",\"o\"),\"ş\",\"s\"),\"ü\",\"u\"),\"\")","v":""}]
[{"$f":"IF(VERİ!C18<>\"\",CONCATENATE(VERİ!C18&\" \"&VERİ!D18),\"\")","v":""},{"$f":"IF(VERİ!C18<>\"\",(SUBSTITUTE(SUBSTITUTE(SUBSTITUTE(SUBSTITUTE(SUBSTITUTE(SUBSTITUTE((CONCATENATE(LOWER(VERİ!D18)&VERİ!E18&\"@\"&posta)),\"ç\",\"c\"),\"ğ\",\"g\"),\"ı\",\"i\"),\"ö\",\"o\"),\"ş\",\"s\"),\"ü\",\"u\")),\"\")","v":""},{"$f":"IF(VERİ!C18<>\"\",SUBSTITUTE(SUBSTITUTE(SUBSTITUTE(SUBSTITUTE(SUBSTITUTE(SUBSTITUTE((CONCATENATE(LOWER(VERİ!D18)&VERİ!E18)),\"ç\",\"c\"),\"ğ\",\"g\"),\"ı\",\"i\"),\"ö\",\"o\"),\"ş\",\"s\"),\"ü\",\"u\"),\"\")","v":""}]
[{"$f":"IF(VERİ!C19<>\"\",CONCATENATE(VERİ!C19&\" \"&VERİ!D19),\"\")","v":""},{"$f":"IF(VERİ!C19<>\"\",(SUBSTITUTE(SUBSTITUTE(SUBSTITUTE(SUBSTITUTE(SUBSTITUTE(SUBSTITUTE((CONCATENATE(LOWER(VERİ!D19)&VERİ!E19&\"@\"&posta)),\"ç\",\"c\"),\"ğ\",\"g\"),\"ı\",\"i\"),\"ö\",\"o\"),\"ş\",\"s\"),\"ü\",\"u\")),\"\")","v":""},{"$f":"IF(VERİ!C19<>\"\",SUBSTITUTE(SUBSTITUTE(SUBSTITUTE(SUBSTITUTE(SUBSTITUTE(SUBSTITUTE((CONCATENATE(LOWER(VERİ!D19)&VERİ!E19)),\"ç\",\"c\"),\"ğ\",\"g\"),\"ı\",\"i\"),\"ö\",\"o\"),\"ş\",\"s\"),\"ü\",\"u\"),\"\")","v":""}]
[{"$f":"IF(VERİ!C20<>\"\",CONCATENATE(VERİ!C20&\" \"&VERİ!D20),\"\")","v":""},{"$f":"IF(VERİ!C20<>\"\",(SUBSTITUTE(SUBSTITUTE(SUBSTITUTE(SUBSTITUTE(SUBSTITUTE(SUBSTITUTE((CONCATENATE(LOWER(VERİ!D20)&VERİ!E20&\"@\"&posta)),\"ç\",\"c\"),\"ğ\",\"g\"),\"ı\",\"i\"),\"ö\",\"o\"),\"ş\",\"s\"),\"ü\",\"u\")),\"\")","v":""},{"$f":"IF(VERİ!C20<>\"\",SUBSTITUTE(SUBSTITUTE(SUBSTITUTE(SUBSTITUTE(SUBSTITUTE(SUBSTITUTE((CONCATENATE(LOWER(VERİ!D20)&VERİ!E20)),\"ç\",\"c\"),\"ğ\",\"g\"),\"ı\",\"i\"),\"ö\",\"o\"),\"ş\",\"s\"),\"ü\",\"u\"),\"\")","v":""}]
[{"$f":"IF(VERİ!C21<>\"\",CONCATENATE(VERİ!C21&\" \"&VERİ!D21),\"\")","v":""},{"$f":"IF(VERİ!C21<>\"\",(SUBSTITUTE(SUBSTITUTE(SUBSTITUTE(SUBSTITUTE(SUBSTITUTE(SUBSTITUTE((CONCATENATE(LOWER(VERİ!D21)&VERİ!E21&\"@\"&posta)),\"ç\",\"c\"),\"ğ\",\"g\"),\"ı\",\"i\"),\"ö\",\"o\"),\"ş\",\"s\"),\"ü\",\"u\")),\"\")","v":""},{"$f":"IF(VERİ!C21<>\"\",SUBSTITUTE(SUBSTITUTE(SUBSTITUTE(SUBSTITUTE(SUBSTITUTE(SUBSTITUTE((CONCATENATE(LOWER(VERİ!D21)&VERİ!E21)),\"ç\",\"c\"),\"ğ\",\"g\"),\"ı\",\"i\"),\"ö\",\"o\"),\"ş\",\"s\"),\"ü\",\"u\"),\"\")","v":""}]
[{"$f":"IF(VERİ!C22<>\"\",CONCATENATE(VERİ!C22&\" \"&VERİ!D22),\"\")","v":""},{"$f":"IF(VERİ!C22<>\"\",(SUBSTITUTE(SUBSTITUTE(SUBSTITUTE(SUBSTITUTE(SUBSTITUTE(SUBSTITUTE((CONCATENATE(LOWER(VERİ!D22)&VERİ!E22&\"@\"&posta)),\"ç\",\"c\"),\"ğ\",\"g\"),\"ı\",\"i\"),\"ö\",\"o\"),\"ş\",\"s\"),\"ü\",\"u\")),\"\")","v":""},{"$f":"IF(VERİ!C22<>\"\",SUBSTITUTE(SUBSTITUTE(SUBSTITUTE(SUBSTITUTE(SUBSTITUTE(SUBSTITUTE((CONCATENATE(LOWER(VERİ!D22)&VERİ!E22)),\"ç\",\"c\"),\"ğ\",\"g\"),\"ı\",\"i\"),\"ö\",\"o\"),\"ş\",\"s\"),\"ü\",\"u\"),\"\")","v":""}]
[{"$f":"IF(VERİ!C23<>\"\",CONCATENATE(VERİ!C23&\" \"&VERİ!D23),\"\")","v":""},{"$f":"IF(VERİ!C23<>\"\",(SUBSTITUTE(SUBSTITUTE(SUBSTITUTE(SUBSTITUTE(SUBSTITUTE(SUBSTITUTE((CONCATENATE(LOWER(VERİ!D23)&VERİ!E23&\"@\"&posta)),\"ç\",\"c\"),\"ğ\",\"g\"),\"ı\",\"i\"),\"ö\",\"o\"),\"ş\",\"s\"),\"ü\",\"u\")),\"\")","v":""},{"$f":"IF(VERİ!C23<>\"\",SUBSTITUTE(SUBSTITUTE(SUBSTITUTE(SUBSTITUTE(SUBSTITUTE(SUBSTITUTE((CONCATENATE(LOWER(VERİ!D23)&VERİ!E23)),\"ç\",\"c\"),\"ğ\",\"g\"),\"ı\",\"i\"),\"ö\",\"o\"),\"ş\",\"s\"),\"ü\",\"u\"),\"\")","v":""}]
[{"$f":"IF(VERİ!C24<>\"\",CONCATENATE(VERİ!C24&\" \"&VERİ!D24),\"\")","v":""},{"$f":"IF(VERİ!C24<>\"\",(SUBSTITUTE(SUBSTITUTE(SUBSTITUTE(SUBSTITUTE(SUBSTITUTE(SUBSTITUTE((CONCATENATE(LOWER(VERİ!D24)&VERİ!E24&\"@\"&posta)),\"ç\",\"c\"),\"ğ\",\"g\"),\"ı\",\"i\"),\"ö\",\"o\"),\"ş\",\"s\"),\"ü\",\"u\")),\"\")","v":""},{"$f":"IF(VERİ!C24<>\"\",SUBSTITUTE(SUBSTITUTE(SUBSTITUTE(SUBSTITUTE(SUBSTITUTE(SUBSTITUTE((CONCATENATE(LOWER(VERİ!D24)&VERİ!E24)),\"ç\",\"c\"),\"ğ\",\"g\"),\"ı\",\"i\"),\"ö\",\"o\"),\"ş\",\"s\"),\"ü\",\"u\"),\"\")","v":""}]
[{"$f":"IF(VERİ!C25<>\"\",CONCATENATE(VERİ!C25&\" \"&VERİ!D25),\"\")","v":""},{"$f":"IF(VERİ!C25<>\"\",(SUBSTITUTE(SUBSTITUTE(SUBSTITUTE(SUBSTITUTE(SUBSTITUTE(SUBSTITUTE((CONCATENATE(LOWER(VERİ!D25)&VERİ!E25&\"@\"&posta)),\"ç\",\"c\"),\"ğ\",\"g\"),\"ı\",\"i\"),\"ö\",\"o\"),\"ş\",\"s\"),\"ü\",\"u\")),\"\")","v":""},{"$f":"IF(VERİ!C25<>\"\",SUBSTITUTE(SUBSTITUTE(SUBSTITUTE(SUBSTITUTE(SUBSTITUTE(SUBSTITUTE((CONCATENATE(LOWER(VERİ!D25)&VERİ!E25)),\"ç\",\"c\"),\"ğ\",\"g\"),\"ı\",\"i\"),\"ö\",\"o\"),\"ş\",\"s\"),\"ü\",\"u\"),\"\")","v":""}]
[{"$f":"IF(VERİ!C26<>\"\",CONCATENATE(VERİ!C26&\" \"&VERİ!D26),\"\")","v":""},{"$f":"IF(VERİ!C26<>\"\",(SUBSTITUTE(SUBSTITUTE(SUBSTITUTE(SUBSTITUTE(SUBSTITUTE(SUBSTITUTE((CONCATENATE(LOWER(VERİ!D26)&VERİ!E26&\"@\"&posta)),\"ç\",\"c\"),\"ğ\",\"g\"),\"ı\",\"i\"),\"ö\",\"o\"),\"ş\",\"s\"),\"ü\",\"u\")),\"\")","v":""},{"$f":"IF(VERİ!C26<>\"\",SUBSTITUTE(SUBSTITUTE(SUBSTITUTE(SUBSTITUTE(SUBSTITUTE(SUBSTITUTE((CONCATENATE(LOWER(VERİ!D26)&VERİ!E26)),\"ç\",\"c\"),\"ğ\",\"g\"),\"ı\",\"i\"),\"ö\",\"o\"),\"ş\",\"s\"),\"ü\",\"u\"),\"\")","v":""}]
[{"$f":"IF(VERİ!C27<>\"\",CONCATENATE(VERİ!C27&\" \"&VERİ!D27),\"\")","v":""},{"$f":"IF(VERİ!C27<>\"\",(SUBSTITUTE(SUBSTITUTE(SUBSTITUTE(SUBSTITUTE(SUBSTITUTE(SUBSTITUTE((CONCATENATE(LOWER(VERİ!D27)&VERİ!E27&\"@\"&posta)),\"ç\",\"c\"),\"ğ\",\"g\"),\"ı\",\"i\"),\"ö\",\"o\"),\"ş\",\"s\"),\"ü\",\"u\")),\"\")","v":""},{"$f":"IF(VERİ!C27<>\"\",SUBSTITUTE(SUBSTITUTE(SUBSTITUTE(SUBSTITUTE(SUBSTITUTE(SUBSTITUTE((CONCATENATE(LOWER(VERİ!D27)&VERİ!E27)),\"ç\",\"c\"),\"ğ\",\"g\"),\"ı\",\"i\"),\"ö\",\"o\"),\"ş\",\"s\"),\"ü\",\"u\"),\"\")","v":""}]
[{"$f":"IF(VERİ!C28<>\"\",CONCATENATE(VERİ!C28&\" \"&VERİ!D28),\"\")","v":""},{"$f":"IF(VERİ!C28<>\"\",(SUBSTITUTE(SUBSTITUTE(SUBSTITUTE(SUBSTITUTE(SUBSTITUTE(SUBSTITUTE((CONCATENATE(LOWER(VERİ!D28)&VERİ!E28&\"@\"&posta)),\"ç\",\"c\"),\"ğ\",\"g\"),\"ı\",\"i\"),\"ö\",\"o\"),\"ş\",\"s\"),\"ü\",\"u\")),\"\")","v":""},{"$f":"IF(VERİ!C28<>\"\",SUBSTITUTE(SUBSTITUTE(SUBSTITUTE(SUBSTITUTE(SUBSTITUTE(SUBSTITUTE((CONCATENATE(LOWER(VERİ!D28)&VERİ!E28)),\"ç\",\"c\"),\"ğ\",\"g\"),\"ı\",\"i\"),\"ö\",\"o\"),\"ş\",\"s\"),\"ü\",\"u\"),\"\")","v":""}]
[{"$f":"IF(VERİ!C29<>\"\",CONCATENATE(VERİ!C29&\" \"&VERİ!D29),\"\")","v":""},{"$f":"IF(VERİ!C29<>\"\",(SUBSTITUTE(SUBSTITUTE(SUBSTITUTE(SUBSTITUTE(SUBSTITUTE(SUBSTITUTE((CONCATENATE(LOWER(VERİ!D29)&VERİ!E29&\"@\"&posta)),\"ç\",\"c\"),\"ğ\",\"g\"),\"ı\",\"i\"),\"ö\",\"o\"),\"ş\",\"s\"),\"ü\",\"u\")),\"\")","v":""},{"$f":"IF(VERİ!C29<>\"\",SUBSTITUTE(SUBSTITUTE(SUBSTITUTE(SUBSTITUTE(SUBSTITUTE(SUBSTITUTE((CONCATENATE(LOWER(VERİ!D29)&VERİ!E29)),\"ç\",\"c\"),\"ğ\",\"g\"),\"ı\",\"i\"),\"ö\",\"o\"),\"ş\",\"s\"),\"ü\",\"u\"),\"\")","v":""}]
[{"$f":"IF(VERİ!C30<>\"\",CONCATENATE(VERİ!C30&\" \"&VERİ!D30),\"\")","v":""},{"$f":"IF(VERİ!C30<>\"\",(SUBSTITUTE(SUBSTITUTE(SUBSTITUTE(SUBSTITUTE(SUBSTITUTE(SUBSTITUTE((CONCATENATE(LOWER(VERİ!D30)&VERİ!E30&\"@\"&posta)),\"ç\",\"c\"),\"ğ\",\"g\"),\"ı\",\"i\"),\"ö\",\"o\"),\"ş\",\"s\"),\"ü\",\"u\")),\"\")","v":""},{"$f":"IF(VERİ!C30<>\"\",SUBSTITUTE(SUBSTITUTE(SUBSTITUTE(SUBSTITUTE(SUBSTITUTE(SUBSTITUTE((CONCATENATE(LOWER(VERİ!D30)&VERİ!E30)),\"ç\",\"c\"),\"ğ\",\"g\"),\"ı\",\"i\"),\"ö\",\"o\"),\"ş\",\"s\"),\"ü\",\"u\"),\"\")","v":""}]
[{"$f":"IF(VERİ!C31<>\"\",CONCATENATE(VERİ!C31&\" \"&VERİ!D31),\"\")","v":""},{"$f":"IF(VERİ!C31<>\"\",(SUBSTITUTE(SUBSTITUTE(SUBSTITUTE(SUBSTITUTE(SUBSTITUTE(SUBSTITUTE((CONCATENATE(LOWER(VERİ!D31)&VERİ!E31&\"@\"&posta)),\"ç\",\"c\"),\"ğ\",\"g\"),\"ı\",\"i\"),\"ö\",\"o\"),\"ş\",\"s\"),\"ü\",\"u\")),\"\")","v":""},{"$f":"IF(VERİ!C31<>\"\",SUBSTITUTE(SUBSTITUTE(SUBSTITUTE(SUBSTITUTE(SUBSTITUTE(SUBSTITUTE((CONCATENATE(LOWER(VERİ!D31)&VERİ!E31)),\"ç\",\"c\"),\"ğ\",\"g\"),\"ı\",\"i\"),\"ö\",\"o\"),\"ş\",\"s\"),\"ü\",\"u\"),\"\")","v":""}]
[{"$f":"IF(VERİ!C32<>\"\",CONCATENATE(VERİ!C32&\" \"&VERİ!D32),\"\")","v":""},{"$f":"IF(VERİ!C32<>\"\",(SUBSTITUTE(SUBSTITUTE(SUBSTITUTE(SUBSTITUTE(SUBSTITUTE(SUBSTITUTE((CONCATENATE(LOWER(VERİ!D32)&VERİ!E32&\"@\"&posta)),\"ç\",\"c\"),\"ğ\",\"g\"),\"ı\",\"i\"),\"ö\",\"o\"),\"ş\",\"s\"),\"ü\",\"u\")),\"\")","v":""},{"$f":"IF(VERİ!C32<>\"\",SUBSTITUTE(SUBSTITUTE(SUBSTITUTE(SUBSTITUTE(SUBSTITUTE(SUBSTITUTE((CONCATENATE(LOWER(VERİ!D32)&VERİ!E32)),\"ç\",\"c\"),\"ğ\",\"g\"),\"ı\",\"i\"),\"ö\",\"o\"),\"ş\",\"s\"),\"ü\",\"u\"),\"\")","v":""}]
[{"$f":"IF(VERİ!C33<>\"\",CONCATENATE(VERİ!C33&\" \"&VERİ!D33),\"\")","v":""},{"$f":"IF(VERİ!C33<>\"\",(SUBSTITUTE(SUBSTITUTE(SUBSTITUTE(SUBSTITUTE(SUBSTITUTE(SUBSTITUTE((CONCATENATE(LOWER(VERİ!D33)&VERİ!E33&\"@\"&posta)),\"ç\",\"c\"),\"ğ\",\"g\"),\"ı\",\"i\"),\"ö\",\"o\"),\"ş\",\"s\"),\"ü\",\"u\")),\"\")","v":""},{"$f":"IF(VERİ!C33<>\"\",SUBSTITUTE(SUBSTITUTE(SUBSTITUTE(SUBSTITUTE(SUBSTITUTE(SUBSTITUTE((CONCATENATE(LOWER(VERİ!D33)&VERİ!E33)),\"ç\",\"c\"),\"ğ\",\"g\"),\"ı\",\"i\"),\"ö\",\"o\"),\"ş\",\"s\"),\"ü\",\"u\"),\"\")","v":""}]
[{"$f":"IF(VERİ!C34<>\"\",CONCATENATE(VERİ!C34&\" \"&VERİ!D34),\"\")","v":""},{"$f":"IF(VERİ!C34<>\"\",(SUBSTITUTE(SUBSTITUTE(SUBSTITUTE(SUBSTITUTE(SUBSTITUTE(SUBSTITUTE((CONCATENATE(LOWER(VERİ!D34)&VERİ!E34&\"@\"&posta)),\"ç\",\"c\"),\"ğ\",\"g\"),\"ı\",\"i\"),\"ö\",\"o\"),\"ş\",\"s\"),\"ü\",\"u\")),\"\")","v":""},{"$f":"IF(VERİ!C34<>\"\",SUBSTITUTE(SUBSTITUTE(SUBSTITUTE(SUBSTITUTE(SUBSTITUTE(SUBSTITUTE((CONCATENATE(LOWER(VERİ!D34)&VERİ!E34)),\"ç\",\"c\"),\"ğ\",\"g\"),\"ı\",\"i\"),\"ö\",\"o\"),\"ş\",\"s\"),\"ü\",\"u\"),\"\")","v":""}]
[{"$f":"IF(VERİ!C35<>\"\",CONCATENATE(VERİ!C35&\" \"&VERİ!D35),\"\")","v":""},{"$f":"IF(VERİ!C35<>\"\",(SUBSTITUTE(SUBSTITUTE(SUBSTITUTE(SUBSTITUTE(SUBSTITUTE(SUBSTITUTE((CONCATENATE(LOWER(VERİ!D35)&VERİ!E35&\"@\"&posta)),\"ç\",\"c\"),\"ğ\",\"g\"),\"ı\",\"i\"),\"ö\",\"o\"),\"ş\",\"s\"),\"ü\",\"u\")),\"\")","v":""},{"$f":"IF(VERİ!C35<>\"\",SUBSTITUTE(SUBSTITUTE(SUBSTITUTE(SUBSTITUTE(SUBSTITUTE(SUBSTITUTE((CONCATENATE(LOWER(VERİ!D35)&VERİ!E35)),\"ç\",\"c\"),\"ğ\",\"g\"),\"ı\",\"i\"),\"ö\",\"o\"),\"ş\",\"s\"),\"ü\",\"u\"),\"\")","v":""}]
[{"$f":"IF(VERİ!C36<>\"\",CONCATENATE(VERİ!C36&\" \"&VERİ!D36),\"\")","v":""},{"$f":"IF(VERİ!C36<>\"\",(SUBSTITUTE(SUBSTITUTE(SUBSTITUTE(SUBSTITUTE(SUBSTITUTE(SUBSTITUTE((CONCATENATE(LOWER(VERİ!D36)&VERİ!E36&\"@\"&posta)),\"ç\",\"c\"),\"ğ\",\"g\"),\"ı\",\"i\"),\"ö\",\"o\"),\"ş\",\"s\"),\"ü\",\"u\")),\"\")","v":""},{"$f":"IF(VERİ!C36<>\"\",SUBSTITUTE(SUBSTITUTE(SUBSTITUTE(SUBSTITUTE(SUBSTITUTE(SUBSTITUTE((CONCATENATE(LOWER(VERİ!D36)&VERİ!E36)),\"ç\",\"c\"),\"ğ\",\"g\"),\"ı\",\"i\"),\"ö\",\"o\"),\"ş\",\"s\"),\"ü\",\"u\"),\"\")","v":""}]
[{"$f":"IF(VERİ!C37<>\"\",CONCATENATE(VERİ!C37&\" \"&VERİ!D37),\"\")","v":""},{"$f":"IF(VERİ!C37<>\"\",(SUBSTITUTE(SUBSTITUTE(SUBSTITUTE(SUBSTITUTE(SUBSTITUTE(SUBSTITUTE((CONCATENATE(LOWER(VERİ!D37)&VERİ!E37&\"@\"&posta)),\"ç\",\"c\"),\"ğ\",\"g\"),\"ı\",\"i\"),\"ö\",\"o\"),\"ş\",\"s\"),\"ü\",\"u\")),\"\")","v":""},{"$f":"IF(VERİ!C37<>\"\",SUBSTITUTE(SUBSTITUTE(SUBSTITUTE(SUBSTITUTE(SUBSTITUTE(SUBSTITUTE((CONCATENATE(LOWER(VERİ!D37)&VERİ!E37)),\"ç\",\"c\"),\"ğ\",\"g\"),\"ı\",\"i\"),\"ö\",\"o\"),\"ş\",\"s\"),\"ü\",\"u\"),\"\")","v":""}]
[{"$f":"IF(VERİ!C38<>\"\",CONCATENATE(VERİ!C38&\" \"&VERİ!D38),\"\")","v":""},{"$f":"IF(VERİ!C38<>\"\",(SUBSTITUTE(SUBSTITUTE(SUBSTITUTE(SUBSTITUTE(SUBSTITUTE(SUBSTITUTE((CONCATENATE(LOWER(VERİ!D38)&VERİ!E38&\"@\"&posta)),\"ç\",\"c\"),\"ğ\",\"g\"),\"ı\",\"i\"),\"ö\",\"o\"),\"ş\",\"s\"),\"ü\",\"u\")),\"\")","v":""},{"$f":"IF(VERİ!C38<>\"\",SUBSTITUTE(SUBSTITUTE(SUBSTITUTE(SUBSTITUTE(SUBSTITUTE(SUBSTITUTE((CONCATENATE(LOWER(VERİ!D38)&VERİ!E38)),\"ç\",\"c\"),\"ğ\",\"g\"),\"ı\",\"i\"),\"ö\",\"o\"),\"ş\",\"s\"),\"ü\",\"u\"),\"\")","v":""}]
[{"$f":"IF(VERİ!C39<>\"\",CONCATENATE(VERİ!C39&\" \"&VERİ!D39),\"\")","v":""},{"$f":"IF(VERİ!C39<>\"\",(SUBSTITUTE(SUBSTITUTE(SUBSTITUTE(SUBSTITUTE(SUBSTITUTE(SUBSTITUTE((CONCATENATE(LOWER(VERİ!D39)&VERİ!E39&\"@\"&posta)),\"ç\",\"c\"),\"ğ\",\"g\"),\"ı\",\"i\"),\"ö\",\"o\"),\"ş\",\"s\"),\"ü\",\"u\")),\"\")","v":""},{"$f":"IF(VERİ!C39<>\"\",SUBSTITUTE(SUBSTITUTE(SUBSTITUTE(SUBSTITUTE(SUBSTITUTE(SUBSTITUTE((CONCATENATE(LOWER(VERİ!D39)&VERİ!E39)),\"ç\",\"c\"),\"ğ\",\"g\"),\"ı\",\"i\"),\"ö\",\"o\"),\"ş\",\"s\"),\"ü\",\"u\"),\"\")","v":""}]
[{"$f":"IF(VERİ!C40<>\"\",CONCATENATE(VERİ!C40&\" \"&VERİ!D40),\"\")","v":""},{"$f":"IF(VERİ!C40<>\"\",(SUBSTITUTE(SUBSTITUTE(SUBSTITUTE(SUBSTITUTE(SUBSTITUTE(SUBSTITUTE((CONCATENATE(LOWER(VERİ!D40)&VERİ!E40&\"@\"&posta)),\"ç\",\"c\"),\"ğ\",\"g\"),\"ı\",\"i\"),\"ö\",\"o\"),\"ş\",\"s\"),\"ü\",\"u\")),\"\")","v":""},{"$f":"IF(VERİ!C40<>\"\",SUBSTITUTE(SUBSTITUTE(SUBSTITUTE(SUBSTITUTE(SUBSTITUTE(SUBSTITUTE((CONCATENATE(LOWER(VERİ!D40)&VERİ!E40)),\"ç\",\"c\"),\"ğ\",\"g\"),\"ı\",\"i\"),\"ö\",\"o\"),\"ş\",\"s\"),\"ü\",\"u\"),\"\")","v":""}]
[{"$f":"IF(VERİ!C41<>\"\",CONCATENATE(VERİ!C41&\" \"&VERİ!D41),\"\")","v":""},{"$f":"IF(VERİ!C41<>\"\",(SUBSTITUTE(SUBSTITUTE(SUBSTITUTE(SUBSTITUTE(SUBSTITUTE(SUBSTITUTE((CONCATENATE(LOWER(VERİ!D41)&VERİ!E41&\"@\"&posta)),\"ç\",\"c\"),\"ğ\",\"g\"),\"ı\",\"i\"),\"ö\",\"o\"),\"ş\",\"s\"),\"ü\",\"u\")),\"\")","v":""},{"$f":"IF(VERİ!C41<>\"\",SUBSTITUTE(SUBSTITUTE(SUBSTITUTE(SUBSTITUTE(SUBSTITUTE(SUBSTITUTE((CONCATENATE(LOWER(VERİ!D41)&VERİ!E41)),\"ç\",\"c\"),\"ğ\",\"g\"),\"ı\",\"i\"),\"ö\",\"o\"),\"ş\",\"s\"),\"ü\",\"u\"),\"\")","v":""}]
[{"$f":"IF(VERİ!C42<>\"\",CONCATENATE(VERİ!C42&\" \"&VERİ!D42),\"\")","v":""},{"$f":"IF(VERİ!C42<>\"\",(SUBSTITUTE(SUBSTITUTE(SUBSTITUTE(SUBSTITUTE(SUBSTITUTE(SUBSTITUTE((CONCATENATE(LOWER(VERİ!D42)&VERİ!E42&\"@\"&posta)),\"ç\",\"c\"),\"ğ\",\"g\"),\"ı\",\"i\"),\"ö\",\"o\"),\"ş\",\"s\"),\"ü\",\"u\")),\"\")","v":""},{"$f":"IF(VERİ!C42<>\"\",SUBSTITUTE(SUBSTITUTE(SUBSTITUTE(SUBSTITUTE(SUBSTITUTE(SUBSTITUTE((CONCATENATE(LOWER(VERİ!D42)&VERİ!E42)),\"ç\",\"c\"),\"ğ\",\"g\"),\"ı\",\"i\"),\"ö\",\"o\"),\"ş\",\"s\"),\"ü\",\"u\"),\"\")","v":""}]
[{"$f":"IF(VERİ!C43<>\"\",CONCATENATE(VERİ!C43&\" \"&VERİ!D43),\"\")","v":""},{"$f":"IF(VERİ!C43<>\"\",(SUBSTITUTE(SUBSTITUTE(SUBSTITUTE(SUBSTITUTE(SUBSTITUTE(SUBSTITUTE((CONCATENATE(LOWER(VERİ!D43)&VERİ!E43&\"@\"&posta)),\"ç\",\"c\"),\"ğ\",\"g\"),\"ı\",\"i\"),\"ö\",\"o\"),\"ş\",\"s\"),\"ü\",\"u\")),\"\")","v":""},{"$f":"IF(VERİ!C43<>\"\",SUBSTITUTE(SUBSTITUTE(SUBSTITUTE(SUBSTITUTE(SUBSTITUTE(SUBSTITUTE((CONCATENATE(LOWER(VERİ!D43)&VERİ!E43)),\"ç\",\"c\"),\"ğ\",\"g\"),\"ı\",\"i\"),\"ö\",\"o\"),\"ş\",\"s\"),\"ü\",\"u\"),\"\")","v":""}]
[{"$f":"IF(VERİ!C44<>\"\",CONCATENATE(VERİ!C44&\" \"&VERİ!D44),\"\")","v":""},{"$f":"IF(VERİ!C44<>\"\",(SUBSTITUTE(SUBSTITUTE(SUBSTITUTE(SUBSTITUTE(SUBSTITUTE(SUBSTITUTE((CONCATENATE(LOWER(VERİ!D44)&VERİ!E44&\"@\"&posta)),\"ç\",\"c\"),\"ğ\",\"g\"),\"ı\",\"i\"),\"ö\",\"o\"),\"ş\",\"s\"),\"ü\",\"u\")),\"\")","v":""},{"$f":"IF(VERİ!C44<>\"\",SUBSTITUTE(SUBSTITUTE(SUBSTITUTE(SUBSTITUTE(SUBSTITUTE(SUBSTITUTE((CONCATENATE(LOWER(VERİ!D44)&VERİ!E44)),\"ç\",\"c\"),\"ğ\",\"g\"),\"ı\",\"i\"),\"ö\",\"o\"),\"ş\",\"s\"),\"ü\",\"u\"),\"\")","v":""}]
[{"$f":"IF(VERİ!C45<>\"\",CONCATENATE(VERİ!C45&\" \"&VERİ!D45),\"\")","v":""},{"$f":"IF(VERİ!C45<>\"\",(SUBSTITUTE(SUBSTITUTE(SUBSTITUTE(SUBSTITUTE(SUBSTITUTE(SUBSTITUTE((CONCATENATE(LOWER(VERİ!D45)&VERİ!E45&\"@\"&posta)),\"ç\",\"c\"),\"ğ\",\"g\"),\"ı\",\"i\"),\"ö\",\"o\"),\"ş\",\"s\"),\"ü\",\"u\")),\"\")","v":""},{"$f":"IF(VERİ!C45<>\"\",SUBSTITUTE(SUBSTITUTE(SUBSTITUTE(SUBSTITUTE(SUBSTITUTE(SUBSTITUTE((CONCATENATE(LOWER(VERİ!D45)&VERİ!E45)),\"ç\",\"c\"),\"ğ\",\"g\"),\"ı\",\"i\"),\"ö\",\"o\"),\"ş\",\"s\"),\"ü\",\"u\"),\"\")","v":""}]
[{"$f":"IF(VERİ!C46<>\"\",CONCATENATE(VERİ!C46&\" \"&VERİ!D46),\"\")","v":""},{"$f":"IF(VERİ!C46<>\"\",(SUBSTITUTE(SUBSTITUTE(SUBSTITUTE(SUBSTITUTE(SUBSTITUTE(SUBSTITUTE((CONCATENATE(LOWER(VERİ!D46)&VERİ!E46&\"@\"&posta)),\"ç\",\"c\"),\"ğ\",\"g\"),\"ı\",\"i\"),\"ö\",\"o\"),\"ş\",\"s\"),\"ü\",\"u\")),\"\")","v":""},{"$f":"IF(VERİ!C46<>\"\",SUBSTITUTE(SUBSTITUTE(SUBSTITUTE(SUBSTITUTE(SUBSTITUTE(SUBSTITUTE((CONCATENATE(LOWER(VERİ!D46)&VERİ!E46)),\"ç\",\"c\"),\"ğ\",\"g\"),\"ı\",\"i\"),\"ö\",\"o\"),\"ş\",\"s\"),\"ü\",\"u\"),\"\")","v":""}]
[{"$f":"IF(VERİ!C47<>\"\",CONCATENATE(VERİ!C47&\" \"&VERİ!D47),\"\")","v":""},{"$f":"IF(VERİ!C47<>\"\",(SUBSTITUTE(SUBSTITUTE(SUBSTITUTE(SUBSTITUTE(SUBSTITUTE(SUBSTITUTE((CONCATENATE(LOWER(VERİ!D47)&VERİ!E47&\"@\"&posta)),\"ç\",\"c\"),\"ğ\",\"g\"),\"ı\",\"i\"),\"ö\",\"o\"),\"ş\",\"s\"),\"ü\",\"u\")),\"\")","v":""},{"$f":"IF(VERİ!C47<>\"\",SUBSTITUTE(SUBSTITUTE(SUBSTITUTE(SUBSTITUTE(SUBSTITUTE(SUBSTITUTE((CONCATENATE(LOWER(VERİ!D47)&VERİ!E47)),\"ç\",\"c\"),\"ğ\",\"g\"),\"ı\",\"i\"),\"ö\",\"o\"),\"ş\",\"s\"),\"ü\",\"u\"),\"\")","v":""}]
[{"$f":"IF(VERİ!C48<>\"\",CONCATENATE(VERİ!C48&\" \"&VERİ!D48),\"\")","v":""},{"$f":"IF(VERİ!C48<>\"\",(SUBSTITUTE(SUBSTITUTE(SUBSTITUTE(SUBSTITUTE(SUBSTITUTE(SUBSTITUTE((CONCATENATE(LOWER(VERİ!D48)&VERİ!E48&\"@\"&posta)),\"ç\",\"c\"),\"ğ\",\"g\"),\"ı\",\"i\"),\"ö\",\"o\"),\"ş\",\"s\"),\"ü\",\"u\")),\"\")","v":""},{"$f":"IF(VERİ!C48<>\"\",SUBSTITUTE(SUBSTITUTE(SUBSTITUTE(SUBSTITUTE(SUBSTITUTE(SUBSTITUTE((CONCATENATE(LOWER(VERİ!D48)&VERİ!E48)),\"ç\",\"c\"),\"ğ\",\"g\"),\"ı\",\"i\"),\"ö\",\"o\"),\"ş\",\"s\"),\"ü\",\"u\"),\"\")","v":""}]
[{"$f":"IF(VERİ!C49<>\"\",CONCATENATE(VERİ!C49&\" \"&VERİ!D49),\"\")","v":""},{"$f":"IF(VERİ!C49<>\"\",(SUBSTITUTE(SUBSTITUTE(SUBSTITUTE(SUBSTITUTE(SUBSTITUTE(SUBSTITUTE((CONCATENATE(LOWER(VERİ!D49)&VERİ!E49&\"@\"&posta)),\"ç\",\"c\"),\"ğ\",\"g\"),\"ı\",\"i\"),\"ö\",\"o\"),\"ş\",\"s\"),\"ü\",\"u\")),\"\")","v":""},{"$f":"IF(VERİ!C49<>\"\",SUBSTITUTE(SUBSTITUTE(SUBSTITUTE(SUBSTITUTE(SUBSTITUTE(SUBSTITUTE((CONCATENATE(LOWER(VERİ!D49)&VERİ!E49)),\"ç\",\"c\"),\"ğ\",\"g\"),\"ı\",\"i\"),\"ö\",\"o\"),\"ş\",\"s\"),\"ü\",\"u\"),\"\")","v":""}]
[{"$f":"IF(VERİ!C50<>\"\",CONCATENATE(VERİ!C50&\" \"&VERİ!D50),\"\")","v":""},{"$f":"IF(VERİ!C50<>\"\",(SUBSTITUTE(SUBSTITUTE(SUBSTITUTE(SUBSTITUTE(SUBSTITUTE(SUBSTITUTE((CONCATENATE(LOWER(VERİ!D50)&VERİ!E50&\"@\"&posta)),\"ç\",\"c\"),\"ğ\",\"g\"),\"ı\",\"i\"),\"ö\",\"o\"),\"ş\",\"s\"),\"ü\",\"u\")),\"\")","v":""},{"$f":"IF(VERİ!C50<>\"\",SUBSTITUTE(SUBSTITUTE(SUBSTITUTE(SUBSTITUTE(SUBSTITUTE(SUBSTITUTE((CONCATENATE(LOWER(VERİ!D50)&VERİ!E50)),\"ç\",\"c\"),\"ğ\",\"g\"),\"ı\",\"i\"),\"ö\",\"o\"),\"ş\",\"s\"),\"ü\",\"u\"),\"\")","v":""}]
[{"$f":"IF(VERİ!C51<>\"\",CONCATENATE(VERİ!C51&\" \"&VERİ!D51),\"\")","v":""},{"$f":"IF(VERİ!C51<>\"\",(SUBSTITUTE(SUBSTITUTE(SUBSTITUTE(SUBSTITUTE(SUBSTITUTE(SUBSTITUTE((CONCATENATE(LOWER(VERİ!D51)&VERİ!E51&\"@\"&posta)),\"ç\",\"c\"),\"ğ\",\"g\"),\"ı\",\"i\"),\"ö\",\"o\"),\"ş\",\"s\"),\"ü\",\"u\")),\"\")","v":""},{"$f":"IF(VERİ!C51<>\"\",SUBSTITUTE(SUBSTITUTE(SUBSTITUTE(SUBSTITUTE(SUBSTITUTE(SUBSTITUTE((CONCATENATE(LOWER(VERİ!D51)&VERİ!E51)),\"ç\",\"c\"),\"ğ\",\"g\"),\"ı\",\"i\"),\"ö\",\"o\"),\"ş\",\"s\"),\"ü\",\"u\"),\"\")","v":""}]
[{"$f":"IF(VERİ!C52<>\"\",CONCATENATE(VERİ!C52&\" \"&VERİ!D52),\"\")","v":""},{"$f":"IF(VERİ!C52<>\"\",(SUBSTITUTE(SUBSTITUTE(SUBSTITUTE(SUBSTITUTE(SUBSTITUTE(SUBSTITUTE((CONCATENATE(LOWER(VERİ!D52)&VERİ!E52&\"@\"&posta)),\"ç\",\"c\"),\"ğ\",\"g\"),\"ı\",\"i\"),\"ö\",\"o\"),\"ş\",\"s\"),\"ü\",\"u\")),\"\")","v":""},{"$f":"IF(VERİ!C52<>\"\",SUBSTITUTE(SUBSTITUTE(SUBSTITUTE(SUBSTITUTE(SUBSTITUTE(SUBSTITUTE((CONCATENATE(LOWER(VERİ!D52)&VERİ!E52)),\"ç\",\"c\"),\"ğ\",\"g\"),\"ı\",\"i\"),\"ö\",\"o\"),\"ş\",\"s\"),\"ü\",\"u\"),\"\")","v":""}]
[{"$f":"IF(VERİ!C53<>\"\",CONCATENATE(VERİ!C53&\" \"&VERİ!D53),\"\")","v":""},{"$f":"IF(VERİ!C53<>\"\",(SUBSTITUTE(SUBSTITUTE(SUBSTITUTE(SUBSTITUTE(SUBSTITUTE(SUBSTITUTE((CONCATENATE(LOWER(VERİ!D53)&VERİ!E53&\"@\"&posta)),\"ç\",\"c\"),\"ğ\",\"g\"),\"ı\",\"i\"),\"ö\",\"o\"),\"ş\",\"s\"),\"ü\",\"u\")),\"\")","v":""},{"$f":"IF(VERİ!C53<>\"\",SUBSTITUTE(SUBSTITUTE(SUBSTITUTE(SUBSTITUTE(SUBSTITUTE(SUBSTITUTE((CONCATENATE(LOWER(VERİ!D53)&VERİ!E53)),\"ç\",\"c\"),\"ğ\",\"g\"),\"ı\",\"i\"),\"ö\",\"o\"),\"ş\",\"s\"),\"ü\",\"u\"),\"\")","v":""}]
[{"$f":"IF(VERİ!C54<>\"\",CONCATENATE(VERİ!C54&\" \"&VERİ!D54),\"\")","v":""},{"$f":"IF(VERİ!C54<>\"\",(SUBSTITUTE(SUBSTITUTE(SUBSTITUTE(SUBSTITUTE(SUBSTITUTE(SUBSTITUTE((CONCATENATE(LOWER(VERİ!D54)&VERİ!E54&\"@\"&posta)),\"ç\",\"c\"),\"ğ\",\"g\"),\"ı\",\"i\"),\"ö\",\"o\"),\"ş\",\"s\"),\"ü\",\"u\")),\"\")","v":""},{"$f":"IF(VERİ!C54<>\"\",SUBSTITUTE(SUBSTITUTE(SUBSTITUTE(SUBSTITUTE(SUBSTITUTE(SUBSTITUTE((CONCATENATE(LOWER(VERİ!D54)&VERİ!E54)),\"ç\",\"c\"),\"ğ\",\"g\"),\"ı\",\"i\"),\"ö\",\"o\"),\"ş\",\"s\"),\"ü\",\"u\"),\"\")","v":""}]
[{"$f":"IF(VERİ!C55<>\"\",CONCATENATE(VERİ!C55&\" \"&VERİ!D55),\"\")","v":""},{"$f":"IF(VERİ!C55<>\"\",(SUBSTITUTE(SUBSTITUTE(SUBSTITUTE(SUBSTITUTE(SUBSTITUTE(SUBSTITUTE((CONCATENATE(LOWER(VERİ!D55)&VERİ!E55&\"@\"&posta)),\"ç\",\"c\"),\"ğ\",\"g\"),\"ı\",\"i\"),\"ö\",\"o\"),\"ş\",\"s\"),\"ü\",\"u\")),\"\")","v":""},{"$f":"IF(VERİ!C55<>\"\",SUBSTITUTE(SUBSTITUTE(SUBSTITUTE(SUBSTITUTE(SUBSTITUTE(SUBSTITUTE((CONCATENATE(LOWER(VERİ!D55)&VERİ!E55)),\"ç\",\"c\"),\"ğ\",\"g\"),\"ı\",\"i\"),\"ö\",\"o\"),\"ş\",\"s\"),\"ü\",\"u\"),\"\")","v":""}]
[{"$f":"IF(VERİ!C56<>\"\",CONCATENATE(VERİ!C56&\" \"&VERİ!D56),\"\")","v":""},{"$f":"IF(VERİ!C56<>\"\",(SUBSTITUTE(SUBSTITUTE(SUBSTITUTE(SUBSTITUTE(SUBSTITUTE(SUBSTITUTE((CONCATENATE(LOWER(VERİ!D56)&VERİ!E56&\"@\"&posta)),\"ç\",\"c\"),\"ğ\",\"g\"),\"ı\",\"i\"),\"ö\",\"o\"),\"ş\",\"s\"),\"ü\",\"u\")),\"\")","v":""},{"$f":"IF(VERİ!C56<>\"\",SUBSTITUTE(SUBSTITUTE(SUBSTITUTE(SUBSTITUTE(SUBSTITUTE(SUBSTITUTE((CONCATENATE(LOWER(VERİ!D56)&VERİ!E56)),\"ç\",\"c\"),\"ğ\",\"g\"),\"ı\",\"i\"),\"ö\",\"o\"),\"ş\",\"s\"),\"ü\",\"u\"),\"\")","v":""}]
[{"$f":"IF(VERİ!C57<>\"\",CONCATENATE(VERİ!C57&\" \"&VERİ!D57),\"\")","v":""},{"$f":"IF(VERİ!C57<>\"\",(SUBSTITUTE(SUBSTITUTE(SUBSTITUTE(SUBSTITUTE(SUBSTITUTE(SUBSTITUTE((CONCATENATE(LOWER(VERİ!D57)&VERİ!E57&\"@\"&posta)),\"ç\",\"c\"),\"ğ\",\"g\"),\"ı\",\"i\"),\"ö\",\"o\"),\"ş\",\"s\"),\"ü\",\"u\")),\"\")","v":""},{"$f":"IF(VERİ!C57<>\"\",SUBSTITUTE(SUBSTITUTE(SUBSTITUTE(SUBSTITUTE(SUBSTITUTE(SUBSTITUTE((CONCATENATE(LOWER(VERİ!D57)&VERİ!E57)),\"ç\",\"c\"),\"ğ\",\"g\"),\"ı\",\"i\"),\"ö\",\"o\"),\"ş\",\"s\"),\"ü\",\"u\"),\"\")","v":""}]
[{"$f":"IF(VERİ!C58<>\"\",CONCATENATE(VERİ!C58&\" \"&VERİ!D58),\"\")","v":""},{"$f":"IF(VERİ!C58<>\"\",(SUBSTITUTE(SUBSTITUTE(SUBSTITUTE(SUBSTITUTE(SUBSTITUTE(SUBSTITUTE((CONCATENATE(LOWER(VERİ!D58)&VERİ!E58&\"@\"&posta)),\"ç\",\"c\"),\"ğ\",\"g\"),\"ı\",\"i\"),\"ö\",\"o\"),\"ş\",\"s\"),\"ü\",\"u\")),\"\")","v":""},{"$f":"IF(VERİ!C58<>\"\",SUBSTITUTE(SUBSTITUTE(SUBSTITUTE(SUBSTITUTE(SUBSTITUTE(SUBSTITUTE((CONCATENATE(LOWER(VERİ!D58)&VERİ!E58)),\"ç\",\"c\"),\"ğ\",\"g\"),\"ı\",\"i\"),\"ö\",\"o\"),\"ş\",\"s\"),\"ü\",\"u\"),\"\")","v":""}]
[{"$f":"IF(VERİ!C59<>\"\",CONCATENATE(VERİ!C59&\" \"&VERİ!D59),\"\")","v":""},{"$f":"IF(VERİ!C59<>\"\",(SUBSTITUTE(SUBSTITUTE(SUBSTITUTE(SUBSTITUTE(SUBSTITUTE(SUBSTITUTE((CONCATENATE(LOWER(VERİ!D59)&VERİ!E59&\"@\"&posta)),\"ç\",\"c\"),\"ğ\",\"g\"),\"ı\",\"i\"),\"ö\",\"o\"),\"ş\",\"s\"),\"ü\",\"u\")),\"\")","v":""},{"$f":"IF(VERİ!C59<>\"\",SUBSTITUTE(SUBSTITUTE(SUBSTITUTE(SUBSTITUTE(SUBSTITUTE(SUBSTITUTE((CONCATENATE(LOWER(VERİ!D59)&VERİ!E59)),\"ç\",\"c\"),\"ğ\",\"g\"),\"ı\",\"i\"),\"ö\",\"o\"),\"ş\",\"s\"),\"ü\",\"u\"),\"\")","v":""}]
[{"$f":"IF(VERİ!C60<>\"\",CONCATENATE(VERİ!C60&\" \"&VERİ!D60),\"\")","v":""},{"$f":"IF(VERİ!C60<>\"\",(SUBSTITUTE(SUBSTITUTE(SUBSTITUTE(SUBSTITUTE(SUBSTITUTE(SUBSTITUTE((CONCATENATE(LOWER(VERİ!D60)&VERİ!E60&\"@\"&posta)),\"ç\",\"c\"),\"ğ\",\"g\"),\"ı\",\"i\"),\"ö\",\"o\"),\"ş\",\"s\"),\"ü\",\"u\")),\"\")","v":""},{"$f":"IF(VERİ!C60<>\"\",SUBSTITUTE(SUBSTITUTE(SUBSTITUTE(SUBSTITUTE(SUBSTITUTE(SUBSTITUTE((CONCATENATE(LOWER(VERİ!D60)&VERİ!E60)),\"ç\",\"c\"),\"ğ\",\"g\"),\"ı\",\"i\"),\"ö\",\"o\"),\"ş\",\"s\"),\"ü\",\"u\"),\"\")","v":""}]

{"sheet":"AYARLAR - ÇIKTI","index":1,"n_rows":4,"n_cols":2,"rows_kept":4,"cut":false,"hidden":false,"merged":[]}
["e-posta","ahmetyener.com"]
[]
[]
["makro çalıştır","ctrl + q"]

{"sheet":"VERİ","index":2,"n_rows":0,"n_cols":0,"rows_kept":0,"cut":false,"hidden":false,"merged":[]}